BEGIN:VCALENDAR
VERSION:2.0
PRODID:-//wp-events-plugin.com//7.2.3.1//EN
TZID:Europe/London
X-WR-TIMEZONE:Europe/London
BEGIN:VEVENT
UID:0-15@adph.org.uk
DTSTART;TZID=Europe/London:20240508T093000
DTEND;TZID=Europe/London:20240508T160000
DTSTAMP:20240410T133909Z
URL:https://www.adph.org.uk/networks/northeast/events/my-home-my-care-my-w
 ay/
SUMMARY:'My home\, My care\, My way'
DESCRIPTION:We are delighted to invite you to our second Housing\, Health\,
  and Care Programme conference which will be held on 8 May at Ramside Hall
 \, Durham.\n\nThe programme is led by a partnership which includes the Ass
 ociation of Directors of Adult Social Services (ADASS)\, the Northern Hous
 ing Consortium\, NHS North East and North Cumbria Integrated care Board an
 d the TEC Services Association (TSA)\, along with many others from across 
 the region who are all working collaboratively to address priority areas t
 o improve housing in the region and help make a difference to people's liv
 es.\n\nThe 'My home\, My care\, My way' conference is suitable for anyone 
 working or having an interest in housing\, within local authorities\, NHS\
 , VCSE and the private sector.\n\nIt will be fantastic opportunity to hear
  from national and regional speakers\, be updated on programme activity\, 
 hear from people with lived experience and learn about some of the latest 
 innovations.\n\nInteractive sessions will also provide the opportunity for
  delegates to help shape the programme's activity for the year ahead and n
 etwork with like-minded people committed to improving housing in our regio
 n.\n\nOur aspiration is that people in communities can live the life they 
 want and do the things that are important to them as independently as poss
 ible.\n\nBook here: https://www.eventbrite.co.uk/e/my-home-my-care-my-way-
 tickets-867556012387
CATEGORIES:Conference
LOCATION:Ramside Hall Hotel Carrville DH1 1TD\, Carville\, Durham\, Durham\
 , DH1 1TD\, North East\, United Kingdom
X-APPLE-STRUCTURED-LOCATION;VALUE=URI;X-ADDRESS=Carville\, Durham\, Durham\
 , DH1 1TD\, North East\, United Kingdom;X-APPLE-RADIUS=100;X-TITLE=Ramside
  Hall Hotel Carrville DH1 1TD:geo:0,0
END:VEVENT
BEGIN:VTIMEZONE
TZID:Europe/London
X-LIC-LOCATION:Europe/London
BEGIN:DAYLIGHT
DTSTART:20240331T020000
TZOFFSETFROM:+0000
TZOFFSETTO:+0100
TZNAME:BST
END:DAYLIGHT
END:VTIMEZONE
END:VCALENDAR