BEGIN:VCALENDAR
VERSION:2.0
PRODID:-//wp-events-plugin.com//7.2.3.1//EN
TZID:Europe/London
X-WR-TIMEZONE:Europe/London
BEGIN:VEVENT
UID:0-81@adph.org.uk
DTSTART;TZID=Europe/London:20230718T133000
DTEND;TZID=Europe/London:20230718T150000
DTSTAMP:20230622T104957Z
URL:https://www.adph.org.uk/networks/london/events/introductory-fingertips
 -training-webinar/
SUMMARY:Introductory Fingertips Training Webinar
DESCRIPTION:The Population Health Analysis Unit in OHID are delivering intr
 oductory Fingertips training. The session is aimed at beginners who would 
 like to build their confidence using the Fingertips public health profiles
 . Fingertips is a large public health data collection. It presents a wide 
 range of data indicators for different localities allowing comparisons bet
 ween areas and to a chosen benchmark. Fingertips helps to highlight issues
  that can affect health in a selected locality or geography and can be use
 d to effectively target activity to improve the health of your local popul
 ation and reduce health inequalities.\n\nBook here.
CATEGORIES:Virtual
END:VEVENT
BEGIN:VTIMEZONE
TZID:Europe/London
X-LIC-LOCATION:Europe/London
BEGIN:DAYLIGHT
DTSTART:20230326T020000
TZOFFSETFROM:+0000
TZOFFSETTO:+0100
TZNAME:BST
END:DAYLIGHT
END:VTIMEZONE
END:VCALENDAR