BEGIN:VCALENDAR
VERSION:2.0
PRODID:-//wp-events-plugin.com//7.2.3.1//EN
TZID:Europe/London
X-WR-TIMEZONE:Europe/London
BEGIN:VEVENT
UID:0-61@adph.org.uk
DTSTART:20261127T100000Z
DTEND:20261127T170000Z
DTSTAMP:20260424T140054Z
URL:https://www.adph.org.uk/events/annual-conference-2026/
SUMMARY:Annual Conference 2026
DESCRIPTION:In person
END:VEVENT
END:VCALENDAR